BEGIN:VCALENDAR
VERSION:2.0
PRODID:-//Downtown Boone - ECPv6.15.20//NONSGML v1.0//EN
CALSCALE:GREGORIAN
METHOD:PUBLISH
X-WR-CALNAME:Downtown Boone
X-ORIGINAL-URL:https://downtownboonenc.com
X-WR-CALDESC:Events for Downtown Boone
REFRESH-INTERVAL;VALUE=DURATION:PT1H
X-Robots-Tag:noindex
X-PUBLISHED-TTL:PT1H
BEGIN:VTIMEZONE
TZID:UTC
BEGIN:STANDARD
TZOFFSETFROM:+0000
TZOFFSETTO:+0000
TZNAME:UTC
DTSTART:20240101T000000
END:STANDARD
END:VTIMEZONE
BEGIN:VEVENT
DTSTART;TZID=UTC:20250806T190000
DTEND;TZID=UTC:20250806T210000
DTSTAMP:20260419T145050
CREATED:20250722T155941Z
LAST-MODIFIED:20250722T155941Z
UID:10000097-1754506800-1754514000@downtownboonenc.com
SUMMARY:Lost Province Anniversary Trivia
DESCRIPTION:Trivia is BACK at Lost Province and we’re celebrating our 11th anniversary! Join our host with the most\, Jim\, for a night all about LP. Start brushing up on your beer and Boone knowledge!
URL:https://downtownboonenc.com/eventinfo/lost-province-anniversary-trivia/
LOCATION:Lost Province Brewing Co.\, 130 North Depot Street\, Boone\, N\, 28607\, United States
ORGANIZER;CN="Alyssa Hasty":MAILTO:alyssa@lostprovince.com
END:VEVENT
BEGIN:VEVENT
DTSTART;TZID=UTC:20250805T190000
DTEND;TZID=UTC:20250805T210000
DTSTAMP:20260419T145050
CREATED:20250722T160821Z
LAST-MODIFIED:20250722T160821Z
UID:10000100-1754420400-1754427600@downtownboonenc.com
SUMMARY:Drag Bingo at Lost Province!
DESCRIPTION:To celebrate our 11th anniversary\, our very own Rubie Tuesday is hosting Drag Bingo again! Free to play all night long.
URL:https://downtownboonenc.com/eventinfo/drag-bingo-at-lost-province/
LOCATION:Lost Province Brewing Co.\, 130 North Depot Street\, Boone\, N\, 28607\, United States
ORGANIZER;CN="Alyssa Hasty":MAILTO:alyssa@lostprovince.com
END:VEVENT
BEGIN:VEVENT
DTSTART;TZID=UTC:20250804T190000
DTEND;TZID=UTC:20250804T210000
DTSTAMP:20260419T145050
CREATED:20250722T160242Z
LAST-MODIFIED:20250722T160242Z
UID:10000099-1754334000-1754341200@downtownboonenc.com
SUMMARY:Anniversary Bingo at Lost Province!
DESCRIPTION:Bingo is back at Lost Province just in time for our 11th anniversary! Jim will be serving up fun LP themed prizes all night long.
URL:https://downtownboonenc.com/eventinfo/anniversary-bingo-at-lost-province/
LOCATION:Lost Province Brewing Co.\, 130 North Depot Street\, Boone\, N\, 28607\, United States
ORGANIZER;CN="Alyssa Hasty":MAILTO:alyssa@lostprovince.com
END:VEVENT
BEGIN:VEVENT
DTSTART;TZID=UTC:20250719T180000
DTEND;TZID=UTC:20250719T210000
DTSTAMP:20260419T145050
CREATED:20250707T164835Z
LAST-MODIFIED:20250707T164835Z
UID:10000033-1752948000-1752958800@downtownboonenc.com
SUMMARY:Lost Province Live Music: Bobby Frith
DESCRIPTION:Whether as a solo performer\, band leader\, band member\, session musician\, collaborator\, or just a fan of music\, Bobby Frith prizes a great song above all things. This appreciation has proven vital in his career\, the majority of which has been spent in service of other people’s songs. In this collaborator role\, he has traveled extensively\, performing everywhere from DIY clubs to dive bars\, to venues\, to music festivals\, to radio studios\, all over the eastern US — with everyone from country bands to rappers\, from punk bands to gospel choirs. Though his own original music has never been the focus of his career\, he released Garbage Factory\, a studio EP of his own songs\, in 2020\, and has quietly built up an extensive catalog of original material. His eclectic background has helped him to develop a unique sound and a distinctive songwriting voice\, which is characterized by his use of humor and a strong tendency to depict unexpected scenarios – generally avoiding the more tried and tested songwriting topics. Sonically\, his material tends toward the softer\, melodic side — in all aspects\, maintaining firstly the supremacy of the song.
URL:https://downtownboonenc.com/eventinfo/lost-province-live-music-bobby-frith/
LOCATION:Lost Province Brewing Co.\, 130 North Depot Street\, Boone\, N\, 28607\, United States
ATTACH;FMTTYPE=image/jpeg:https://downtownboonenc.com/wp-content/uploads/2025/07/Bobby-Frith.jpg
ORGANIZER;CN="Lane Moody":MAILTO:lane.moody@townofboone.net
END:VEVENT
BEGIN:VEVENT
DTSTART;TZID=UTC:20250718T180000
DTEND;TZID=UTC:20250718T210000
DTSTAMP:20260419T145050
CREATED:20250707T163917Z
LAST-MODIFIED:20250707T163917Z
UID:10000032-1752861600-1752872400@downtownboonenc.com
SUMMARY:Lost Province Live Music: Mason Jar Confessions Duo
DESCRIPTION:Mason Jar Confessions is a duo consisting of Danny Platt on guitar and vocals and Blake Bostain on the mandolin and trumpet! Mason Jar Confessions plays a mixed bag of Americana\, rock\, folk\, bluegrass\, and original music to create “confession sessions.”\nEach member of MJC performs in other local and regional acts including Handlebar Betty\, Lost Ridge Band\, The Merry Tanksters and Turpentine Shine to form a nice blend of each of their respective other projects. Members of the band have performed in various settings with many artists including Doc Watson\, Jeff Sipe\, David Childers\, the Krueger Brothers\, and members of Railroad Earth and the New Riders of the Purple Sage.
URL:https://downtownboonenc.com/eventinfo/lost-province-live-music-mason-jar-confessions-duo/
LOCATION:Lost Province Brewing Co.\, 130 North Depot Street\, Boone\, N\, 28607\, United States
ATTACH;FMTTYPE=image/jpeg:https://downtownboonenc.com/wp-content/uploads/2025/07/Mason-Jar-Confessions-Duo.jpg
ORGANIZER;CN="Lane Moody":MAILTO:lane.moody@townofboone.net
END:VEVENT
BEGIN:VEVENT
DTSTART;TZID=UTC:20250712T180000
DTEND;TZID=UTC:20250712T210000
DTSTAMP:20260419T145050
CREATED:20250707T163647Z
LAST-MODIFIED:20250707T163647Z
UID:10000031-1752343200-1752354000@downtownboonenc.com
SUMMARY:Lost Province Live Music: Bob Bonnen
DESCRIPTION:Feel good favorites and oldies – classic songs you know by heart for a relaxed and friendly atmosphere.
URL:https://downtownboonenc.com/eventinfo/lost-province-live-music-bob-bonnen/
LOCATION:Lost Province Brewing Co.\, 130 North Depot Street\, Boone\, N\, 28607\, United States
ATTACH;FMTTYPE=image/jpeg:https://downtownboonenc.com/wp-content/uploads/2025/07/Bob-Bonnen.jpg
ORGANIZER;CN="Lane Moody":MAILTO:lane.moody@townofboone.net
END:VEVENT
BEGIN:VEVENT
DTSTART;TZID=UTC:20250711T180000
DTEND;TZID=UTC:20250711T210000
DTSTAMP:20260419T145050
CREATED:20250707T163348Z
LAST-MODIFIED:20250707T163348Z
UID:10000030-1752256800-1752267600@downtownboonenc.com
SUMMARY:Lost Province Live Music: Folk and Dagger
DESCRIPTION:Come join Folk & Dagger for great food\, drink and music!!
URL:https://downtownboonenc.com/eventinfo/lost-province-live-music-folk-and-dagger/
LOCATION:Lost Province Brewing Co.\, 130 North Depot Street\, Boone\, N\, 28607\, United States
ATTACH;FMTTYPE=image/jpeg:https://downtownboonenc.com/wp-content/uploads/2025/07/Folk-and-Dagger.jpg
ORGANIZER;CN="Lane Moody":MAILTO:lane.moody@townofboone.net
END:VEVENT
BEGIN:VEVENT
DTSTART;TZID=UTC:20250626T170000
DTEND;TZID=UTC:20250626T180000
DTSTAMP:20260419T145050
CREATED:20250605T155246Z
LAST-MODIFIED:20250605T155246Z
UID:10000001-1750957200-1750960800@downtownboonenc.com
SUMMARY:Free Beer Tasting!
DESCRIPTION:Every fourth Thursday at Lost Province\, our Head Brewer offers a free beer tasting of his choice! Our beer tasting themes differ month by month but you always get to try 4 total and find your new favorite. \nCraft beer can be confusing – we get it. So bring your ID and your best friends out to learn the ropes!
URL:https://downtownboonenc.com/eventinfo/free-beer-tasting/
LOCATION:Lost Province Brewing Co.\, 130 North Depot Street\, Boone\, N\, 28607\, United States
ATTACH;FMTTYPE=image/jpeg:https://downtownboonenc.com/wp-content/uploads/2025/06/Adam.jpg
ORGANIZER;CN="Alyssa Hasty":MAILTO:alyssa@lostprovince.com
END:VEVENT
END:VCALENDAR